BEGIN:VCALENDAR
VERSION:2.0
PRODID:-//Moorside High School - ECPv6.15.20//NONSGML v1.0//EN
CALSCALE:GREGORIAN
METHOD:PUBLISH
X-ORIGINAL-URL:https://moorside.staffs.sch.uk
X-WR-CALDESC:Events for Moorside High School
REFRESH-INTERVAL;VALUE=DURATION:PT1H
X-Robots-Tag:noindex
X-PUBLISHED-TTL:PT1H
BEGIN:VTIMEZONE
TZID:Europe/London
BEGIN:DAYLIGHT
TZOFFSETFROM:+0000
TZOFFSETTO:+0100
TZNAME:BST
DTSTART:20230326T010000
END:DAYLIGHT
BEGIN:STANDARD
TZOFFSETFROM:+0100
TZOFFSETTO:+0000
TZNAME:GMT
DTSTART:20231029T010000
END:STANDARD
BEGIN:DAYLIGHT
TZOFFSETFROM:+0000
TZOFFSETTO:+0100
TZNAME:BST
DTSTART:20240331T010000
END:DAYLIGHT
BEGIN:STANDARD
TZOFFSETFROM:+0100
TZOFFSETTO:+0000
TZNAME:GMT
DTSTART:20241027T010000
END:STANDARD
BEGIN:DAYLIGHT
TZOFFSETFROM:+0000
TZOFFSETTO:+0100
TZNAME:BST
DTSTART:20250330T010000
END:DAYLIGHT
BEGIN:STANDARD
TZOFFSETFROM:+0100
TZOFFSETTO:+0000
TZNAME:GMT
DTSTART:20251026T010000
END:STANDARD
END:VTIMEZONE
BEGIN:VEVENT
DTSTART;VALUE=DATE:20240325
DTEND;VALUE=DATE:20240406
DTSTAMP:20260422T074447
CREATED:20230724T103326Z
LAST-MODIFIED:20230724T103659Z
UID:7749-1711324800-1712361599@moorside.staffs.sch.uk
SUMMARY:HALF TERM
DESCRIPTION:
URL:https://moorside.staffs.sch.uk/calendar/half-term-4/
END:VEVENT
BEGIN:VEVENT
DTSTART;VALUE=DATE:20240408
DTEND;VALUE=DATE:20240409
DTSTAMP:20260422T074447
CREATED:20230724T103735Z
LAST-MODIFIED:20230724T103735Z
UID:7752-1712534400-1712620799@moorside.staffs.sch.uk
SUMMARY:SCHOOL OPENS
DESCRIPTION:
URL:https://moorside.staffs.sch.uk/calendar/school-opens-6/
END:VEVENT
BEGIN:VEVENT
DTSTART;VALUE=DATE:20240408
DTEND;VALUE=DATE:20240518
DTSTAMP:20260422T074447
CREATED:20230724T103820Z
LAST-MODIFIED:20230724T104413Z
UID:7754-1712534400-1715990399@moorside.staffs.sch.uk
SUMMARY:Y11 GCSE GERMAN SPEAKING EXAMS
DESCRIPTION:
URL:https://moorside.staffs.sch.uk/calendar/y11-gcse-german-speaking-exams/
END:VEVENT
BEGIN:VEVENT
DTSTART;VALUE=DATE:20240417
DTEND;VALUE=DATE:20240418
DTSTAMP:20260422T074447
CREATED:20240408T131137Z
LAST-MODIFIED:20240408T131137Z
UID:8550-1713312000-1713398399@moorside.staffs.sch.uk
SUMMARY:Prospective Parent Information Session
DESCRIPTION:St John’s Primary School\, Wetley Rocks – 3.45pm on Wednesday 17th April (For St John’s students and parents)
URL:https://moorside.staffs.sch.uk/calendar/prospective-parent-information-session-2/
END:VEVENT
BEGIN:VEVENT
DTSTART;VALUE=DATE:20240417
DTEND;VALUE=DATE:20240419
DTSTAMP:20260422T074447
CREATED:20231130T110046Z
LAST-MODIFIED:20231130T110046Z
UID:8229-1713312000-1713484799@moorside.staffs.sch.uk
SUMMARY:GCSE ART & DESIGN EXAM
DESCRIPTION:
URL:https://moorside.staffs.sch.uk/calendar/gcse-art-design-exam/
END:VEVENT
BEGIN:VEVENT
DTSTART;VALUE=DATE:20240420
DTEND;VALUE=DATE:20240422
DTSTAMP:20260422T074447
CREATED:20230724T103903Z
LAST-MODIFIED:20230724T103903Z
UID:7756-1713571200-1713743999@moorside.staffs.sch.uk
SUMMARY:DUKE OF EDINBURGH WEEKEND
DESCRIPTION:
URL:https://moorside.staffs.sch.uk/calendar/duke-of-edinburgh-weekend/
END:VEVENT
BEGIN:VEVENT
DTSTART;VALUE=DATE:20240424
DTEND;VALUE=DATE:20240425
DTSTAMP:20260422T074447
CREATED:20240408T131010Z
LAST-MODIFIED:20240408T131043Z
UID:8546-1713916800-1714003199@moorside.staffs.sch.uk
SUMMARY:Prospective Parent Information Session
DESCRIPTION:Werrington Primary School – 5pm on Wednesday 24th April
URL:https://moorside.staffs.sch.uk/calendar/prospective-parent-information-session/
END:VEVENT
BEGIN:VEVENT
DTSTART;VALUE=DATE:20240429
DTEND;VALUE=DATE:20240430
DTSTAMP:20260422T074447
CREATED:20231130T104827Z
LAST-MODIFIED:20231130T110821Z
UID:8219-1714348800-1714435199@moorside.staffs.sch.uk
SUMMARY:Y11 GCSE DRAMA REHEARSAL (TBC)
DESCRIPTION:
URL:https://moorside.staffs.sch.uk/calendar/drama-rehearsal/
END:VEVENT
BEGIN:VEVENT
DTSTART;VALUE=DATE:20240430
DTEND;VALUE=DATE:20240501
DTSTAMP:20260422T074447
CREATED:20231130T104855Z
LAST-MODIFIED:20231130T110721Z
UID:8221-1714435200-1714521599@moorside.staffs.sch.uk
SUMMARY:Y11 GCSE DRAMA EXAM (TBC)
DESCRIPTION:
URL:https://moorside.staffs.sch.uk/calendar/drama-exam/
END:VEVENT
END:VCALENDAR