BEGIN:VCALENDAR
VERSION:2.0
PRODID:-//Moorside High School - ECPv6.15.20//NONSGML v1.0//EN
CALSCALE:GREGORIAN
METHOD:PUBLISH
X-WR-CALNAME:Moorside High School
X-ORIGINAL-URL:https://moorside.staffs.sch.uk
X-WR-CALDESC:Events for Moorside High School
REFRESH-INTERVAL;VALUE=DURATION:PT1H
X-Robots-Tag:noindex
X-PUBLISHED-TTL:PT1H
BEGIN:VTIMEZONE
TZID:Europe/London
BEGIN:DAYLIGHT
TZOFFSETFROM:+0000
TZOFFSETTO:+0100
TZNAME:BST
DTSTART:20230326T010000
END:DAYLIGHT
BEGIN:STANDARD
TZOFFSETFROM:+0100
TZOFFSETTO:+0000
TZNAME:GMT
DTSTART:20231029T010000
END:STANDARD
BEGIN:DAYLIGHT
TZOFFSETFROM:+0000
TZOFFSETTO:+0100
TZNAME:BST
DTSTART:20240331T010000
END:DAYLIGHT
BEGIN:STANDARD
TZOFFSETFROM:+0100
TZOFFSETTO:+0000
TZNAME:GMT
DTSTART:20241027T010000
END:STANDARD
BEGIN:DAYLIGHT
TZOFFSETFROM:+0000
TZOFFSETTO:+0100
TZNAME:BST
DTSTART:20250330T010000
END:DAYLIGHT
BEGIN:STANDARD
TZOFFSETFROM:+0100
TZOFFSETTO:+0000
TZNAME:GMT
DTSTART:20251026T010000
END:STANDARD
END:VTIMEZONE
BEGIN:VEVENT
DTSTART;VALUE=DATE:20240408
DTEND;VALUE=DATE:20240518
DTSTAMP:20260422T092131
CREATED:20230724T103820Z
LAST-MODIFIED:20230724T104413Z
UID:7754-1712534400-1715990399@moorside.staffs.sch.uk
SUMMARY:Y11 GCSE GERMAN SPEAKING EXAMS
DESCRIPTION:
URL:https://moorside.staffs.sch.uk/calendar/y11-gcse-german-speaking-exams/
END:VEVENT
BEGIN:VEVENT
DTSTART;VALUE=DATE:20240417
DTEND;VALUE=DATE:20240418
DTSTAMP:20260422T092131
CREATED:20240408T131137Z
LAST-MODIFIED:20240408T131137Z
UID:8550-1713312000-1713398399@moorside.staffs.sch.uk
SUMMARY:Prospective Parent Information Session
DESCRIPTION:St John’s Primary School\, Wetley Rocks – 3.45pm on Wednesday 17th April (For St John’s students and parents)
URL:https://moorside.staffs.sch.uk/calendar/prospective-parent-information-session-2/
END:VEVENT
BEGIN:VEVENT
DTSTART;VALUE=DATE:20240417
DTEND;VALUE=DATE:20240419
DTSTAMP:20260422T092131
CREATED:20231130T110046Z
LAST-MODIFIED:20231130T110046Z
UID:8229-1713312000-1713484799@moorside.staffs.sch.uk
SUMMARY:GCSE ART & DESIGN EXAM
DESCRIPTION:
URL:https://moorside.staffs.sch.uk/calendar/gcse-art-design-exam/
END:VEVENT
END:VCALENDAR